BEGIN:VCALENDAR
VERSION:2.0
PRODID:-//Creative Renfrewshire - ECPv6.15.20//NONSGML v1.0//EN
CALSCALE:GREGORIAN
METHOD:PUBLISH
X-WR-CALNAME:Creative Renfrewshire
X-ORIGINAL-URL:https://creativerenfrewshire.com
X-WR-CALDESC:Events for Creative Renfrewshire
REFRESH-INTERVAL;VALUE=DURATION:PT1H
X-Robots-Tag:noindex
X-PUBLISHED-TTL:PT1H
BEGIN:VTIMEZONE
TZID:Europe/London
BEGIN:DAYLIGHT
TZOFFSETFROM:+0000
TZOFFSETTO:+0100
TZNAME:BST
DTSTART:20220327T010000
END:DAYLIGHT
BEGIN:STANDARD
TZOFFSETFROM:+0100
TZOFFSETTO:+0000
TZNAME:GMT
DTSTART:20221030T010000
END:STANDARD
BEGIN:DAYLIGHT
TZOFFSETFROM:+0000
TZOFFSETTO:+0100
TZNAME:BST
DTSTART:20230326T010000
END:DAYLIGHT
BEGIN:STANDARD
TZOFFSETFROM:+0100
TZOFFSETTO:+0000
TZNAME:GMT
DTSTART:20231029T010000
END:STANDARD
BEGIN:DAYLIGHT
TZOFFSETFROM:+0000
TZOFFSETTO:+0100
TZNAME:BST
DTSTART:20240331T010000
END:DAYLIGHT
BEGIN:STANDARD
TZOFFSETFROM:+0100
TZOFFSETTO:+0000
TZNAME:GMT
DTSTART:20241027T010000
END:STANDARD
END:VTIMEZONE
BEGIN:VEVENT
DTSTART;TZID=Europe/London:20230831T100000
DTEND;TZID=Europe/London:20231118T160000
DTSTAMP:20260424T213524
CREATED:20230815T160758Z
LAST-MODIFIED:20230815T161136Z
UID:3297-1693476000-1700323200@creativerenfrewshire.com
SUMMARY:The Big Art Show
DESCRIPTION:Welcome to the Big Art Show\, Paisley – a large-scale public exhibition\, housed at The Art Department. The exhibition is a joint project of Outspoken Arts Scotland & Art Paisley Ltd. \n\nThe Big Art Show 2023 will run 31 August – 18 November 2023.\nOpen Tue-Sat\, 10am-4pm (closed Suns/Mons).\nExhibition closes 18 November 2023.\nHand-back for artists and purchasers 19-29 November 2023.
URL:https://creativerenfrewshire.com/event/the-big-art-show/
LOCATION:The Art Department\, 2-10 Causeyside St\, Paisley\, PA1 1UQ\, United Kingdom
CATEGORIES:Community
ATTACH;FMTTYPE=image/jpeg:https://creativerenfrewshire.com/wp-content/uploads/2023/08/359044896_762885915837018_5699244255963047893_n.jpg
END:VEVENT
END:VCALENDAR