BEGIN:VCALENDAR
VERSION:2.0
PRODID:-//Creative Renfrewshire - ECPv6.15.20//NONSGML v1.0//EN
CALSCALE:GREGORIAN
METHOD:PUBLISH
X-WR-CALNAME:Creative Renfrewshire
X-ORIGINAL-URL:http://creativerenfrewshire.com
X-WR-CALDESC:Events for Creative Renfrewshire
REFRESH-INTERVAL;VALUE=DURATION:PT1H
X-Robots-Tag:noindex
X-PUBLISHED-TTL:PT1H
BEGIN:VTIMEZONE
TZID:Europe/London
BEGIN:DAYLIGHT
TZOFFSETFROM:+0000
TZOFFSETTO:+0100
TZNAME:BST
DTSTART:20220327T010000
END:DAYLIGHT
BEGIN:STANDARD
TZOFFSETFROM:+0100
TZOFFSETTO:+0000
TZNAME:GMT
DTSTART:20221030T010000
END:STANDARD
BEGIN:DAYLIGHT
TZOFFSETFROM:+0000
TZOFFSETTO:+0100
TZNAME:BST
DTSTART:20230326T010000
END:DAYLIGHT
BEGIN:STANDARD
TZOFFSETFROM:+0100
TZOFFSETTO:+0000
TZNAME:GMT
DTSTART:20231029T010000
END:STANDARD
BEGIN:DAYLIGHT
TZOFFSETFROM:+0000
TZOFFSETTO:+0100
TZNAME:BST
DTSTART:20240331T010000
END:DAYLIGHT
BEGIN:STANDARD
TZOFFSETFROM:+0100
TZOFFSETTO:+0000
TZNAME:GMT
DTSTART:20241027T010000
END:STANDARD
END:VTIMEZONE
BEGIN:VEVENT
DTSTART;TZID=Europe/London:20230921T200000
DTEND;TZID=Europe/London:20231019T230000
DTSTAMP:20260423T003434
CREATED:20230918T093558Z
LAST-MODIFIED:20230918T093558Z
UID:3602-1695326400-1697756400@creativerenfrewshire.com
SUMMARY:The Keg Sessions
DESCRIPTION:Live Music every Thursday evening from 8pm at The Keg\, Paisley. \nCheck out the instagram to keep up-to-date on who is performing each week.
URL:http://creativerenfrewshire.com/event/the-keg-sessions/
LOCATION:The Keg\, 15B Gilmour Street\, Paisley\, PA1 1DD\, United Kingdom
CATEGORIES:Community
ATTACH;FMTTYPE=image/jpeg:http://creativerenfrewshire.com/wp-content/uploads/2023/09/IMG_0818.jpg
END:VEVENT
END:VCALENDAR