BEGIN:VCALENDAR
VERSION:2.0
PRODID:-//Creative Renfrewshire - ECPv6.15.20//NONSGML v1.0//EN
CALSCALE:GREGORIAN
METHOD:PUBLISH
X-WR-CALNAME:Creative Renfrewshire
X-ORIGINAL-URL:http://creativerenfrewshire.com
X-WR-CALDESC:Events for Creative Renfrewshire
REFRESH-INTERVAL;VALUE=DURATION:PT1H
X-Robots-Tag:noindex
X-PUBLISHED-TTL:PT1H
BEGIN:VTIMEZONE
TZID:Europe/London
BEGIN:DAYLIGHT
TZOFFSETFROM:+0000
TZOFFSETTO:+0100
TZNAME:BST
DTSTART:20220327T010000
END:DAYLIGHT
BEGIN:STANDARD
TZOFFSETFROM:+0100
TZOFFSETTO:+0000
TZNAME:GMT
DTSTART:20221030T010000
END:STANDARD
BEGIN:DAYLIGHT
TZOFFSETFROM:+0000
TZOFFSETTO:+0100
TZNAME:BST
DTSTART:20230326T010000
END:DAYLIGHT
BEGIN:STANDARD
TZOFFSETFROM:+0100
TZOFFSETTO:+0000
TZNAME:GMT
DTSTART:20231029T010000
END:STANDARD
BEGIN:DAYLIGHT
TZOFFSETFROM:+0000
TZOFFSETTO:+0100
TZNAME:BST
DTSTART:20240331T010000
END:DAYLIGHT
BEGIN:STANDARD
TZOFFSETFROM:+0100
TZOFFSETTO:+0000
TZNAME:GMT
DTSTART:20241027T010000
END:STANDARD
END:VTIMEZONE
BEGIN:VEVENT
DTSTART;TZID=Europe/London:20230821T080000
DTEND;TZID=Europe/London:20230901T170000
DTSTAMP:20260423T013901
CREATED:20230817T122917Z
LAST-MODIFIED:20230817T122917Z
UID:3346-1692604800-1693587600@creativerenfrewshire.com
SUMMARY:Fèis Phàislig Gaelic Choir - applications OPEN!
DESCRIPTION:Applications for our Gaelic Choir (ages 8+) are open now for sessions starting September. No previous knowledge of Gaelic is required You will learn new songs\, improve your listening skills and have fun! \n Find out more and sign-up here: https://buff.ly/3qH0XUd
URL:http://creativerenfrewshire.com/event/feis-phaislig-gaelic-choir-applications-open/
LOCATION:Castlehead High School\, 30 Camphill\, Castlehead\, Paisley\, PA1 2HJ\, United Kingdom
CATEGORIES:Community
ATTACH;FMTTYPE=image/jpeg:http://creativerenfrewshire.com/wp-content/uploads/2023/08/366315837_756428539822520_6174205011938089611_n.jpg
ORGANIZER;CN="F%C3%A8is Ph%C3%A0islig":MAILTO:info@feisphaislig.com
END:VEVENT
END:VCALENDAR