BEGIN:VCALENDAR
VERSION:2.0
PRODID:-//Creative Renfrewshire - ECPv6.15.20//NONSGML v1.0//EN
CALSCALE:GREGORIAN
METHOD:PUBLISH
X-WR-CALNAME:Creative Renfrewshire
X-ORIGINAL-URL:http://creativerenfrewshire.com
X-WR-CALDESC:Events for Creative Renfrewshire
REFRESH-INTERVAL;VALUE=DURATION:PT1H
X-Robots-Tag:noindex
X-PUBLISHED-TTL:PT1H
BEGIN:VTIMEZONE
TZID:UTC
BEGIN:STANDARD
TZOFFSETFROM:+0000
TZOFFSETTO:+0000
TZNAME:UTC
DTSTART:20220101T000000
END:STANDARD
END:VTIMEZONE
BEGIN:VEVENT
DTSTART;TZID=UTC:20230901T160000
DTEND;TZID=UTC:20230902T150000
DTSTAMP:20260422T212200
CREATED:20230817T143120Z
LAST-MODIFIED:20230831T101947Z
UID:3354-1693584000-1693666800@creativerenfrewshire.com
SUMMARY:Browns Lane Market
DESCRIPTION:The second weekend of Browns Lane Market! A Crafty\, Food\, Drink and Artisan Market \nEvery weekend Friday night 16:00-20:00 and Saturday 10-15:00. \nStarts 1st Friday in September!
URL:http://creativerenfrewshire.com/event/browns-lane-market/
LOCATION:Browns Lane\, 6 Browns Lane\, Paisley\, PA1 2JH\, United Kingdom
CATEGORIES:Community
ATTACH;FMTTYPE=image/jpeg:http://creativerenfrewshire.com/wp-content/uploads/2023/08/347581367_118774084575218_2812363873857119187_n.jpg
END:VEVENT
END:VCALENDAR