BEGIN:VCALENDAR
VERSION:2.0
PRODID:-//Creative Renfrewshire - ECPv6.15.20//NONSGML v1.0//EN
CALSCALE:GREGORIAN
METHOD:PUBLISH
X-ORIGINAL-URL:http://creativerenfrewshire.com
X-WR-CALDESC:Events for Creative Renfrewshire
REFRESH-INTERVAL;VALUE=DURATION:PT1H
X-Robots-Tag:noindex
X-PUBLISHED-TTL:PT1H
BEGIN:VTIMEZONE
TZID:Europe/London
BEGIN:DAYLIGHT
TZOFFSETFROM:+0000
TZOFFSETTO:+0100
TZNAME:BST
DTSTART:20220327T010000
END:DAYLIGHT
BEGIN:STANDARD
TZOFFSETFROM:+0100
TZOFFSETTO:+0000
TZNAME:GMT
DTSTART:20221030T010000
END:STANDARD
BEGIN:DAYLIGHT
TZOFFSETFROM:+0000
TZOFFSETTO:+0100
TZNAME:BST
DTSTART:20230326T010000
END:DAYLIGHT
BEGIN:STANDARD
TZOFFSETFROM:+0100
TZOFFSETTO:+0000
TZNAME:GMT
DTSTART:20231029T010000
END:STANDARD
BEGIN:DAYLIGHT
TZOFFSETFROM:+0000
TZOFFSETTO:+0100
TZNAME:BST
DTSTART:20240331T010000
END:DAYLIGHT
BEGIN:STANDARD
TZOFFSETFROM:+0100
TZOFFSETTO:+0000
TZNAME:GMT
DTSTART:20241027T010000
END:STANDARD
END:VTIMEZONE
BEGIN:VEVENT
DTSTART;TZID=Europe/London:20230902T080000
DTEND;TZID=Europe/London:20230903T170000
DTSTAMP:20260423T104946
CREATED:20230817T120516Z
LAST-MODIFIED:20230817T120516Z
UID:3334-1693641600-1693760400@creativerenfrewshire.com
SUMMARY:Renfrewshire Doors Open Days
DESCRIPTION:Renfrewshire Doors Open Days are your chance to visit historic and unique buildings across the area.\nDoors Open Days in Renfrewshire will be Saturday 2 and Sunday 3 September 2023. \nIt’s a great chance to explore hidden gems and fascinating venues. You’ll learn so much about the history and heritage of Renfrewshire. \nOur towns and villages always have lots of participating venues. It might be a building near your home. Somewhere you’ve driven past and always wondered what it looks like inside. \nThis weekend is always one of our local favourites. A chance to get inside private or hidden spaces. In the past\, visitors have had the chance to climb church towers\, delve into hidden underground drains\, and take part in heritage skills workshops. \nEach year is different\, and the buildings taking part each put on their own activities as part of the celebrations. Doors Open Days is coordinated nationally by the Scottish Civic Trust and is part of European Heritage Days alongside Scottish Archaeology Month\, coordinated by Archaeology Scotland. Both are supported by Historic Environment Scotland. This year’s shared European Heritage Days theme is Living Heritage.
URL:http://creativerenfrewshire.com/event/renfrewshire-doors-open-days/
CATEGORIES:Community
ATTACH;FMTTYPE=image/jpeg:http://creativerenfrewshire.com/wp-content/uploads/2023/08/Renfrewshire-doors-open-days.jpeg
ORGANIZER;CN="Paisley.is":MAILTO:hello@paisley.is
END:VEVENT
END:VCALENDAR